BEGIN:VCALENDAR
VERSION:2.0
PRODID:-//Food Trucks WI - ECPv6.15.20//NONSGML v1.0//EN
CALSCALE:GREGORIAN
METHOD:PUBLISH
X-WR-CALNAME:Food Trucks WI
X-ORIGINAL-URL:https://foodtruckswi.com
X-WR-CALDESC:Events for Food Trucks WI
REFRESH-INTERVAL;VALUE=DURATION:PT1H
X-Robots-Tag:noindex
X-PUBLISHED-TTL:PT1H
BEGIN:VTIMEZONE
TZID:UTC
BEGIN:STANDARD
TZOFFSETFROM:+0000
TZOFFSETTO:+0000
TZNAME:UTC
DTSTART:20230101T000000
END:STANDARD
END:VTIMEZONE
BEGIN:VEVENT
DTSTART;VALUE=DATE:20240710
DTEND;VALUE=DATE:20240715
DTSTAMP:20260424T195403
CREATED:20231212T082744Z
LAST-MODIFIED:20231212T082744Z
UID:2053-1720569600-1721001599@foodtruckswi.com
SUMMARY:Lafayette County Fair
DESCRIPTION:County Fair which will offer tractor pulls\, bull riding\, stock car races\, and  a national point race demolition derby.   \nUsual attendance is around 25\,000 attendees over the five day event.
URL:https://foodtruckswi.com/event/lafayette-county-fair/
LOCATION:Lafayette County Fairgrounds\, 701 E Louisa St\, Darlington\, WI\, 53530\, United States
ORGANIZER;CN="Peggy Soehnlein":MAILTO:peggy.soehnlein@lafayettecountywi.org
END:VEVENT
END:VCALENDAR