BEGIN:VCALENDAR
VERSION:2.0
PRODID:-//Food Trucks WI - ECPv6.15.20//NONSGML v1.0//EN
CALSCALE:GREGORIAN
METHOD:PUBLISH
X-WR-CALNAME:Food Trucks WI
X-ORIGINAL-URL:https://foodtruckswi.com
X-WR-CALDESC:Events for Food Trucks WI
REFRESH-INTERVAL;VALUE=DURATION:PT1H
X-Robots-Tag:noindex
X-PUBLISHED-TTL:PT1H
BEGIN:VTIMEZONE
TZID:UTC
BEGIN:STANDARD
TZOFFSETFROM:+0000
TZOFFSETTO:+0000
TZNAME:UTC
DTSTART:20230101T000000
END:STANDARD
END:VTIMEZONE
BEGIN:VTIMEZONE
TZID:America/Chicago
BEGIN:DAYLIGHT
TZOFFSETFROM:-0600
TZOFFSETTO:-0500
TZNAME:CDT
DTSTART:20230312T080000
END:DAYLIGHT
BEGIN:STANDARD
TZOFFSETFROM:-0500
TZOFFSETTO:-0600
TZNAME:CST
DTSTART:20231105T070000
END:STANDARD
BEGIN:DAYLIGHT
TZOFFSETFROM:-0600
TZOFFSETTO:-0500
TZNAME:CDT
DTSTART:20240310T080000
END:DAYLIGHT
BEGIN:STANDARD
TZOFFSETFROM:-0500
TZOFFSETTO:-0600
TZNAME:CST
DTSTART:20241103T070000
END:STANDARD
BEGIN:DAYLIGHT
TZOFFSETFROM:-0600
TZOFFSETTO:-0500
TZNAME:CDT
DTSTART:20250309T080000
END:DAYLIGHT
BEGIN:STANDARD
TZOFFSETFROM:-0500
TZOFFSETTO:-0600
TZNAME:CST
DTSTART:20251102T070000
END:STANDARD
BEGIN:DAYLIGHT
TZOFFSETFROM:-0600
TZOFFSETTO:-0500
TZNAME:CDT
DTSTART:20260308T080000
END:DAYLIGHT
BEGIN:STANDARD
TZOFFSETFROM:-0500
TZOFFSETTO:-0600
TZNAME:CST
DTSTART:20261101T070000
END:STANDARD
END:VTIMEZONE
BEGIN:VEVENT
DTSTART;TZID=UTC:20240609T120000
DTEND;TZID=UTC:20240609T200000
DTSTAMP:20260425T064909
CREATED:20240301T061648Z
LAST-MODIFIED:20240301T061648Z
UID:2279-1717934400-1717963200@foodtruckswi.com
SUMMARY:1st Annual Wiscobricks Toys Block Party
DESCRIPTION:Local vendor event hosting food trucks\, and all types of retail vendors.  Kick off summer the right way.  food\, drinks\, shopping\, music\, games and demos.
URL:https://foodtruckswi.com/event/1st-annual-wiscobricks-toys-block-party/
LOCATION:Wiscobricks Toys\, 1122 South Airline Road\, Mount Pleasant\, WI\, 53406\, United States
ATTACH;FMTTYPE=image/png:https://foodtruckswi.com/wp-content/uploads/2024/02/1ST-ANNUAL-WISCOBRICKS-TOYS.png
ORGANIZER;CN="Wiscobricks toys":MAILTO:wiscobricksevents@gmail.com
END:VEVENT
BEGIN:VEVENT
DTSTART;TZID=America/Chicago:20240622T100000
DTEND;TZID=America/Chicago:20240622T190000
DTSTAMP:20260425T064909
CREATED:20240322T135818Z
LAST-MODIFIED:20240322T135818Z
UID:2535-1719050400-1719082800@foodtruckswi.com
SUMMARY:Valley Wide Pride Fest
DESCRIPTION:Valley Wide Pride Fest is on June 22\, 2024. The event will take place in beautiful downtown Hudson WI at Lakefront Park. Food vendors can be there from 10-7 ( however we are still working on a schedule). We are still looking for a few more food trucks to be at our event! Last year we had over 1000 people attend and this year we aim to be even bigger! Please reach out if you have this date open. We would love to hear from you!  Hudsonwipride.com
URL:https://foodtruckswi.com/event/valley-wide-pride-fest/
LOCATION:Lakefront Park\, 1st street\, Hudson\, WI\, 54016\, United States
ATTACH;FMTTYPE=image/png:https://foodtruckswi.com/wp-content/uploads/2022/03/Welcome.png
ORGANIZER;CN="Hudson Pride Co":MAILTO:Hudsonwipride@gmail.com
END:VEVENT
BEGIN:VEVENT
DTSTART;VALUE=DATE:20240710
DTEND;VALUE=DATE:20240715
DTSTAMP:20260425T064909
CREATED:20231212T082744Z
LAST-MODIFIED:20231212T082744Z
UID:2053-1720569600-1721001599@foodtruckswi.com
SUMMARY:Lafayette County Fair
DESCRIPTION:County Fair which will offer tractor pulls\, bull riding\, stock car races\, and  a national point race demolition derby.   \nUsual attendance is around 25\,000 attendees over the five day event.
URL:https://foodtruckswi.com/event/lafayette-county-fair/
LOCATION:Lafayette County Fairgrounds\, 701 E Louisa St\, Darlington\, WI\, 53530\, United States
ORGANIZER;CN="Peggy Soehnlein":MAILTO:peggy.soehnlein@lafayettecountywi.org
END:VEVENT
BEGIN:VEVENT
DTSTART;VALUE=DATE:20240822
DTEND;VALUE=DATE:20240826
DTSTAMP:20260425T064909
CREATED:20240201T012329Z
LAST-MODIFIED:20240201T012329Z
UID:2217-1724284800-1724630399@foodtruckswi.com
SUMMARY:West Bend Germanfest
DESCRIPTION:The Habitat for Humanity West Bend Germanfest is going into its 39th year.  This long-standing annual community event combines the cheerful spirit of charitable giving with the lively atmosphere of a traditional German festival.  The event is hosted by Habitat for Humanity of Washington and Dodge Counties and brings together Guests from across Wisconsin to celebrate and share German heritage.  This event raises funds for the Habitat mission of providing affordable housing and Critical home repair for those in need.   Attendees can enjoy a range of German-themed activities\, including music\, dance\, authentic cuisine\, Fun traditional food trucks\, Vendors\, and family-friendly entertainment. This unique blend of fun and entertainment fosters a sense of community while contributing to the important work of building homes and transforming lives.
URL:https://foodtruckswi.com/event/west-bend-germanfest/
ATTACH;FMTTYPE=image/jpeg:https://foodtruckswi.com/wp-content/uploads/2024/01/Come-1.jpg
END:VEVENT
BEGIN:VEVENT
DTSTART;TZID=America/Chicago:20250602T100000
DTEND;TZID=America/Chicago:20250602T170000
DTSTAMP:20260425T064909
CREATED:20260424T142842Z
LAST-MODIFIED:20260424T142842Z
UID:3244-1748858400-1748883600@foodtruckswi.com
SUMMARY:Langlade County Food Truck Day- Langlade County Fairgrounds
DESCRIPTION:Monthly event to provide various food trucks of various ethnic foods for people to enjoy.
URL:https://foodtruckswi.com/event/langlade-county-food-truck-day-langlade-county-fairgrounds/
LOCATION:Langlade County Fairgrounds\, 1633 Neva Road\, Antigo\, 54409\, United States
ATTACH;FMTTYPE=image/jpeg:https://foodtruckswi.com/wp-content/uploads/2025/03/cty-craft-market-logo.jpg
ORGANIZER;CN="Langlade County Forestry%2C Parks and Recreation":MAILTO:cjacobs@co.langlade.wi.us
END:VEVENT
END:VCALENDAR