BEGIN:VCALENDAR
VERSION:2.0
PRODID:-//Food Trucks WI - ECPv6.15.20//NONSGML v1.0//EN
CALSCALE:GREGORIAN
METHOD:PUBLISH
X-WR-CALNAME:Food Trucks WI
X-ORIGINAL-URL:https://foodtruckswi.com
X-WR-CALDESC:Events for Food Trucks WI
REFRESH-INTERVAL;VALUE=DURATION:PT1H
X-Robots-Tag:noindex
X-PUBLISHED-TTL:PT1H
BEGIN:VTIMEZONE
TZID:UTC
BEGIN:STANDARD
TZOFFSETFROM:+0000
TZOFFSETTO:+0000
TZNAME:UTC
DTSTART:20210101T000000
END:STANDARD
END:VTIMEZONE
BEGIN:VEVENT
DTSTART;VALUE=DATE:20230513
DTEND;VALUE=DATE:20230514
DTSTAMP:20260425T104248
CREATED:20230404T221224Z
LAST-MODIFIED:20230404T221224Z
UID:727-1683936000-1684022399@foodtruckswi.com
SUMMARY:Vintage Market on the Square
DESCRIPTION:Vintage Market on the Square is an open-air market with the most creative\, inspired\, and talented makers\, collectors\, and vintage lovers in Southern Wisconsin all in one place. \nOur open-air market is presented to you by The Vintage Flip\, a unique woman-owned business that was recently recognized by the Wisconsin State Journal and listed as the ‘Coolest Place to Shop’ by Only in Wisconsin. Vintage Market on the Square is set to explode onto the market circuit for its’ third year\, after a brief Covid hiatus. \nWhat will I find at Vintage Market on the Square?\nAntiques – Vintage Clothing – Mid-Century Modern – 80’s – Architectural Salvage – Boho – Gypsy – Farmhouse – Furniture – Home Decor – Yard/Garden Art – Upcycled and Handcrafted Treasures – Jewelry & Accessories – Paper & Novelty – Woodcraft – Purses – Bath & Body – Candles – Plants/Garden – (No MLM or direct sales allowed) \nWhere is it being held?\nThe Vintage Market on the Square will be held at Commons Park in historic downtown Lake Mills. Just six blocks from I-94 off Exit 259\, we are 20 minutes from Madison and 40 minutes from suburban Milwaukee area. Our downtown community is a bustling tourism hub\, centered around the natural beauty of Rock Lake\, with attractions such as an historic walking tour\, a regionally-recognized winery and a nationally-recognized brewery\, as well as locally-owned shops and restaurants. The shaded park is pet-friendly with well-maintained restroom facilities. \nWe are the hunt for food trucks for the event. Booth spaces are $75 and our applications can be filled out at https://my.boothcentral.com/v/events/search?q=53551.
URL:https://foodtruckswi.com/event/vintage-market-on-the-square/
LOCATION:Commons Park\, Lake Mills\, Wisconsin\, 100 N. Main Street\, Lake Mills\, WI\, 53551\, United States
ATTACH;FMTTYPE=image/png:https://foodtruckswi.com/wp-content/uploads/2023/04/Vintage-Market-Booth-Central-1920x1080-1.png
ORGANIZER;CN="The Vintage Flip":MAILTO:thevintageflip@gmail.com
END:VEVENT
BEGIN:VEVENT
DTSTART;TZID=UTC:20230506T110000
DTEND;TZID=UTC:20230506T190000
DTSTAMP:20260425T104248
CREATED:20230228T010633Z
LAST-MODIFIED:20230228T010633Z
UID:677-1683370800-1683399600@foodtruckswi.com
SUMMARY:Fair Food Festival
DESCRIPTION:Bring the whole family to Beaver Dam for the Fair Food Festival\, which will feature delicious sweet treats\, tasty fried fair food\, and an assortment of food carts. Events are scheduled rain or shine throughout the Summer with a variety of new vendors. Picnic tables and shelters will be available for relaxing and listening to live music outdoors while enjoying your favorite carnival foods. \nAdmission and parking are absolutely free. No carry-ins\, please. \nWhile you’re supporting local vendors\, support local musicians\, too. Attendees will enjoy a variety of live music throughout the day. New talent will take the stage every ninety minutes. \n 
URL:https://foodtruckswi.com/event/fair-food-festival-3/
LOCATION:Dodge County Fairgrounds\, N6885 High Point Road\, Beaver Dam\, WI\, 53916\, United States
ATTACH;FMTTYPE=image/jpeg:https://foodtruckswi.com/wp-content/uploads/2023/02/Fresh-Squeezed-Lemonade-Food-Stand-at-Dodge-County-Fairgrounds.jpg
ORGANIZER;CN="Dodge County Fair Association":MAILTO:admin@dodgecountyfairgrounds.com
END:VEVENT
BEGIN:VEVENT
DTSTART;TZID=UTC:20230422T110000
DTEND;TZID=UTC:20230422T190000
DTSTAMP:20260425T104248
CREATED:20230228T010718Z
LAST-MODIFIED:20230228T010718Z
UID:673-1682161200-1682190000@foodtruckswi.com
SUMMARY:Fair Food Festival
DESCRIPTION:Bring the whole family to Beaver Dam for the Fair Food Festival\, which will feature delicious sweet treats\, tasty fried fair food\, and an assortment of food carts. Events are scheduled rain or shine throughout the Summer with a variety of new vendors. Picnic tables and shelters will be available for relaxing and listening to live music outdoors while enjoying your favorite carnival foods. \nAdmission and parking are absolutely free. No carry-ins\, please. \nWhile you’re supporting local vendors\, support local musicians\, too. Attendees will enjoy a variety of live music throughout the day. New talent will take the stage every ninety minutes. \n 
URL:https://foodtruckswi.com/event/fair-food-festival-4/
LOCATION:Dodge County Fairgrounds\, N6885 High Point Road\, Beaver Dam\, WI\, 53916\, United States
ATTACH;FMTTYPE=image/jpeg:https://foodtruckswi.com/wp-content/uploads/2023/02/Cotton-Candy-and-Sno-Kone-Food-Stand-Beaver-Dam-Wisconsin.jpg
ORGANIZER;CN="Dodge County Fair Association":MAILTO:admin@dodgecountyfairgrounds.com
END:VEVENT
BEGIN:VEVENT
DTSTART;TZID=UTC:20230320T090000
DTEND;TZID=UTC:20230320T150000
DTSTAMP:20260425T104248
CREATED:20230323T181744Z
LAST-MODIFIED:20230323T181744Z
UID:697-1679302800-1679324400@foodtruckswi.com
SUMMARY:Elderberry Manor Spring Artisan & Handcrafted Arts Fair
DESCRIPTION:Elderberry Manor’s First Spring Handcrafted Arts and Artisan Fair! \nElderberry Manor is a Washington County gem; Located on 170 acres of mixed Conservancy and organic Farmland with a beautiful Event Barn that takes center stage. This barn was built in the 1800s but has been fully restored with 3000sq ft of interior space along with bathrooms built in 2022. Spread throughout the land of the venue and inside the beautiful barn\, you will find yourself galloping around browsing at handcrafted goods from vendors from near and far. \nAdmission $5 per CAR \nMay 20th 2023\n9am-3pm\nRain or Shine\n5113 County Highway M\nWest Bend WI 53095\nwww.elderberrymanorllc.com \nhttps://www.elderberrymanorllc.com/public-events
URL:https://foodtruckswi.com/event/elderberry-manor-spring-artisan-handcrafted-arts-fair/
LOCATION:Elderberry Manor\, 5113 county rd m\, West Bend\, WI\, 53095\, United States
ATTACH;FMTTYPE=image/png:https://foodtruckswi.com/wp-content/uploads/2023/03/FCC818C4-99DF-4144-9460-13996D01E834.png
END:VEVENT
BEGIN:VEVENT
DTSTART;TZID=UTC:20221002T110000
DTEND;TZID=UTC:20221002T160000
DTSTAMP:20260425T104248
CREATED:20220831T025806Z
LAST-MODIFIED:20220925T201613Z
UID:489-1664708400-1664726400@foodtruckswi.com
SUMMARY:2022 Fall Food Truck Frenzy
DESCRIPTION:Interested in being a vendor for the event? Fill out our online application here.\n\nDate: 10.2.22\nTime: 11am-4pm\nLocation: Milton Vretenar Memorial Park | 4230 S. Kirkwood Ave.\, St. Francis\, WI 53235\nStay tuned for a line-up of food trucks and entertainment!\n100% of the fees collected go back into the community either through The St. Francis Celebrations Committee or The Rotary Club of Mitchell Field. As always thank you for your support!\n\nFollow our event on Facebook
URL:https://foodtruckswi.com/event/2022-fall-food-truck-frenzy/
LOCATION:Milton Vretenar Municipal Park\, 4224 S. Kirkwood Ave.\, St. Francis\, WI\, 53235\, United States
ATTACH;FMTTYPE=image/jpeg:https://foodtruckswi.com/wp-content/uploads/2022/08/308090108_495725838743474_8701727259780095214_n.jpg
ORGANIZER;CN="City of St. Francis Celebrations Committee":MAILTO:sfcelebrations@gmail.com
END:VEVENT
BEGIN:VEVENT
DTSTART;TZID=UTC:20221001T110000
DTEND;TZID=UTC:20221001T190000
DTSTAMP:20260425T104248
CREATED:20220724T011223Z
LAST-MODIFIED:20220724T011223Z
UID:415-1664622000-1664650800@foodtruckswi.com
SUMMARY:Fair Food Festival
DESCRIPTION:Bring the whole family to Beaver Dam for the Fair Food Festival\, which will feature delicious sweet treats\, tasty fried fair food\, and an assortment of food carts. Events are scheduled rain or shine monthly throughout the Summer with a variety of new vendors. Picnic tables and shelters will be available for relaxing and listening to live music outdoors while enjoying your favorite carnival foods. Free admission and parking. Kids events may include a bounce house\, a petting zoo\, and face painting.
URL:https://foodtruckswi.com/event/fair-food-festival-2/
LOCATION:Dodge County Fairgrounds\, N6885 High Point Road\, Beaver Dam\, WI\, 53916\, United States
ATTACH;FMTTYPE=image/jpeg:https://foodtruckswi.com/wp-content/uploads/2022/07/Fresh-Squeezed-Lemonade-Food-Stand-at-Dodge-County-Fairgrounds-1536x1024-1.jpg
ORGANIZER;CN="Dodge County Fair Association":MAILTO:admin@dodgecountyfairgrounds.com
END:VEVENT
BEGIN:VEVENT
DTSTART;TZID=UTC:20220923T090000
DTEND;TZID=UTC:20220923T190000
DTSTAMP:20260425T104248
CREATED:20220916T062955Z
LAST-MODIFIED:20220916T062955Z
UID:519-1663923600-1663959600@foodtruckswi.com
SUMMARY:Silica For Your Home Meal Packing Event
DESCRIPTION:Silica For Your Home in Fond du Lac\, WI is hosting a meal packing event alongside No Child Hungry where we will be packing 100\,000 meals to give back to children in need in the Fond du Lac\, Beaver Dam and Watertown communities. \nWe invite local food trucks to park their trucks in our parking lot to serve food to our customers and employees in attendance. We are expecting around 1\,190 people in attendance throughout the course of Friday and Saturday. \nFor more information or to let her know you will be attending with a food truck\, please reach out to bhuppert@shopsilica.com. \nPlease see flyer attached for more details including dates and times.
URL:https://foodtruckswi.com/event/silica-for-your-home-meal-packing-event/
LOCATION:WI
ATTACH;FMTTYPE=image/jpeg:https://foodtruckswi.com/wp-content/uploads/2022/09/297094206_1744706219231446_8711009982946672705_n.jpeg
ORGANIZER;CN="Breonna Huppert":MAILTO:bhuppert@shopsilica.com
END:VEVENT
BEGIN:VEVENT
DTSTART;TZID=UTC:20220918T110000
DTEND;TZID=UTC:20220918T140000
DTSTAMP:20260425T104248
CREATED:20220707T224849Z
LAST-MODIFIED:20220707T224849Z
UID:360-1663498800-1663509600@foodtruckswi.com
SUMMARY:Fort Atkinson library Food Truck Rally
DESCRIPTION:This event will take place in front of the Fort Atkinson library (The 200 block of Merchants Ave. has been approved by the City to be closed off to traffic for this event) from 11AM – 2PM on Sunday\, September 18\, 2022. Live music will be played and seating will be available indoors and outside of the library.
URL:https://foodtruckswi.com/event/fort-atkinson-library-food-truck-rally/
LOCATION:Fort Atkinson library\, 209 Merchants Avenue\, Fort Atkinson\, WI\, 53538\, United States
ATTACH;FMTTYPE=image/png:https://foodtruckswi.com/wp-content/uploads/2022/07/Food-Truck-Festival-Banner.png
END:VEVENT
BEGIN:VEVENT
DTSTART;TZID=UTC:20220917T110000
DTEND;TZID=UTC:20220917T190000
DTSTAMP:20260425T104248
CREATED:20220724T010657Z
LAST-MODIFIED:20220724T010657Z
UID:410-1663412400-1663441200@foodtruckswi.com
SUMMARY:Fair Food Festival
DESCRIPTION:Bring the whole family to Beaver Dam for the Fair Food Festival\, which will feature delicious sweet treats\, tasty fried fair food\, and an assortment of food carts. Events are scheduled rain or shine monthly throughout the Summer with a variety of new vendors. Picnic tables and shelters will be available for relaxing and listening to live music outdoors while enjoying your favorite carnival foods. Free admission and parking. Kids events may include a bounce house\, a petting zoo\, and face painting.
URL:https://foodtruckswi.com/event/fair-food-festival/
LOCATION:Dodge County Fairgrounds\, N6885 High Point Road\, Beaver Dam\, WI\, 53916\, United States
ATTACH;FMTTYPE=image/jpeg:https://foodtruckswi.com/wp-content/uploads/2022/07/Bens-Pretzel-Food-Truck-Dodge-County-Fairgrounds-1536x1024-1.jpg
ORGANIZER;CN="Dodge County Fair Association":MAILTO:admin@dodgecountyfairgrounds.com
END:VEVENT
BEGIN:VEVENT
DTSTART;TZID=UTC:20220911T120000
DTEND;TZID=UTC:20220911T140000
DTSTAMP:20260425T104248
CREATED:20220911T180512Z
LAST-MODIFIED:20220911T180512Z
UID:463-1662897600-1662904800@foodtruckswi.com
SUMMARY:Southbrook Church Reconnect Event
DESCRIPTION:Hello\, \nI work for Southbrook Church. Every year we have a church wide event to kick off our fall programs. As of last year we started having food trucks join our event. We would love for your truck to join us on September 11th after our service. Please let me know if you are interested (I need to give the city a list of vendors) or need any additional information. Please note that this is in Franklin\, so you will need to have their permeant and be ready for their food inspectors; so we are asking truck to be here at 11. \nWe look forward to being able to work with you!\n~ Steph
URL:https://foodtruckswi.com/event/southbrook-church-reconnect-event/
LOCATION:Southbrook Church\, 11010 W St Martins Rd\, Franklin\, WI\, 53132\, United States
END:VEVENT
BEGIN:VEVENT
DTSTART;TZID=UTC:20220910T100000
DTEND;TZID=UTC:20220910T140000
DTSTAMP:20260425T104248
CREATED:20220805T231750Z
LAST-MODIFIED:20220805T231750Z
UID:440-1662804000-1662818400@foodtruckswi.com
SUMMARY:Prescott Daze Children's Events
DESCRIPTION:The Prescott Daze Children’s Event is a carnival like feel that is apart of our towns annual city celebration. We hold in in town Square Park and are looking to add a few (3) food trucks to the mix this year.\n125 Elm St N Prescott WI 54021
URL:https://foodtruckswi.com/event/prescott-daze-childrens-events/
LOCATION:WI
ATTACH;FMTTYPE=image/jpeg:https://foodtruckswi.com/wp-content/uploads/2022/08/295723921_1369764896840706_2392161378576065450_n.jpg
ORGANIZER;CN="Camille Gray":MAILTO:camille.gray11@gmail.com
END:VEVENT
BEGIN:VEVENT
DTSTART;TZID=UTC:20220910T090000
DTEND;TZID=UTC:20220910T150000
DTSTAMP:20260425T104248
CREATED:20220715T013656Z
LAST-MODIFIED:20220715T013656Z
UID:376-1662800400-1662822000@foodtruckswi.com
SUMMARY:Bark in the Park & 5K Walk/Run
DESCRIPTION:Join Racine’s first annual PET FESTIVAL and our 5k event with your dogs! \nBARK IN THE PARK is a pet festival with rescues bringing adoptables\, K9 demonstrations by trainers and agencies\, local artisan vendors\, music\, food trucks\, beer\, children’s activities\, FREE microchip clinic\, raffles\, doggy costume contest\, and much more! Bring your well behaved and leashed dogs! They are welcome for the day! \nROOT RIVER 5K RUN/WALK can be done In-person or virtually. Support our mission as individuals or teams. A great day with a route that travels through Island\, Lincoln\, and Colonial Parks in Racine. \nOn-site registration starts at 9am with the run/walk starting at 10am. \nFood truck vendors: $50 + $50 deposit (refunded after event).\nQuestions can be phoned or messaged to: Kristin at 262-977-1594 \nRaffles and other good times to be had! \nFood trucks\, vendors\, walk/run participants\, and volunteers can all register at: www.barkinthepark.pet
URL:https://foodtruckswi.com/event/bark-in-the-park-5k-walk-run/
LOCATION:Island Park\, 1700 Liberty Street\, Racine\, WI\, 53404\, United States
ATTACH;FMTTYPE=image/jpeg:https://foodtruckswi.com/wp-content/uploads/2022/07/Logo1-translucent-background.jpg
ORGANIZER;CN="Billy's Posse%2C Inc":MAILTO:billysposseinc@gmail.com
END:VEVENT
BEGIN:VEVENT
DTSTART;TZID=UTC:20220826T160000
DTEND;TZID=UTC:20220826T200000
DTSTAMP:20260425T104248
CREATED:20220807T200205Z
LAST-MODIFIED:20220807T200205Z
UID:435-1661529600-1661544000@foodtruckswi.com
SUMMARY:Milton Community Days
DESCRIPTION:Outdoor market with over 60 vendors \, food trucks \, live music and a winery!
URL:https://foodtruckswi.com/event/milton-community-days-2/
LOCATION:schillberg park milton\, wi\, 301 W High St\, Milton\, WI\, 53563\, United States
ATTACH;FMTTYPE=image/jpeg:https://foodtruckswi.com/wp-content/uploads/2022/08/image0.jpeg
END:VEVENT
BEGIN:VEVENT
DTSTART;VALUE=DATE:20220817
DTEND;VALUE=DATE:20220822
DTSTAMP:20260425T104248
CREATED:20220726T223001Z
LAST-MODIFIED:20220726T223001Z
UID:428-1660694400-1661126399@foodtruckswi.com
SUMMARY:Dodge County Fair
DESCRIPTION:Affordable family entertainment as low as $5.40 per day with the purchase of a season pass or just $10 gate admission with FREE stages and grandstand. The annual music festival and county fair entertains over 52\,000 fans a year and is the largest outdoor event in the area. A huge tractor pull followed by three nights of national touring artist concerts entertain country and rock fans. Two demolition derbies\, a Horse pull\, tractor pull\, and truck pull at the grandstand plus food\, fun and exhibits for the whole family. Don’t forget to taste the great fair food\, view the many exhibits and animals while learning\, doing and just having a great time!
URL:https://foodtruckswi.com/event/dodge-county-fair/
LOCATION:Dodge County Fairgrounds\, N6885 High Point Road\, Beaver Dam\, WI\, 53916\, United States
ATTACH;FMTTYPE=image/jpeg:https://foodtruckswi.com/wp-content/uploads/2022/07/Food-and-Beer-Festival-County-Fair.jpg
ORGANIZER;CN="Dodge County Fair Association":MAILTO:admin@dodgecountyfairgrounds.com
END:VEVENT
BEGIN:VEVENT
DTSTART;TZID=UTC:20220812T163000
DTEND;TZID=UTC:20220812T233000
DTSTAMP:20260425T104248
CREATED:20220514T235112Z
LAST-MODIFIED:20220514T235112Z
UID:265-1660321800-1660347000@foodtruckswi.com
SUMMARY:18th Annual Cheese Capital Jazz and Blues Crawl for the Arts
DESCRIPTION:Plymouth Arts Center’s Cheese Capital Jazz & Blues Crawl for the Arts will be presented\, Friday\, August 12\, 2022\, 4:30pm-Midnight. This 18th annual live music extravaganza and fundraiser features 11 fantastic bands at the PAC in the courtyard and greatroom and at 7 Plymouth clubs and restaurants. Show your support by purchasing the 2022 Wristband; a $10 donation for the PAC. Wristbands are available now at all participating venues. The 2022 PAC wristband is your passport to ride the trolley free to all the venues from 6:30pm to 10:30pm This year’s participating Jazz & Blues Crawl venues are the PAC greatroom and courtyard\, Antonio’s\, PJ Campbell’s at the Depot\, The Fig and the Pheasant\, Big Billy’s Bar & Grill\, Plank Road Distillery\, Plymouth Tap\, and Wild Shots Pub & Grill. \nJoin us for this exciting evening of the blended arts! Festivities are kicked off at the Plymouth Arts Center\, 520 East Mill\, downtown Plymouth\, WI at 4:30pm with continuous music from 4:30 to 9pm. PAC’s Bourbon Street Café will feature a delicious menu until 9pm. There will be a cash bar in the courtyard and in the greatroom. The public is invited to view a brand-new art show\, Walking on the Wildside which is sponsored by Van Horn Auto. Place your bid at our huge Silent Auction consisting of original fine art\, gift baskets\, gift certificates\, and unique gifts donated by PAC members and friends and area businesses. Silent Auction Bidding closes at 9pm. You need not be present to win. Hop on the trolley to visit all 8 venues. Wristbands and maps are available at all venues. It’s all cool\, and it all happens in one night! \nThe Jazz Crawl is generously sponsored by Masters Gallery Foods\, Sargento Foods\, the Sartori Company and Van Horn Auto. In-kind support from M.A.S. Industries and 1420am/98.5fm Cow Country Radio is the Media Sponsor. \nThe Plymouth Arts Center is well-known throughout Wisconsin for its ongoing and lively schedule of visual and performing arts events including our unique Jazz & Blues Crawl and the nationally acclaimed\, “Sartori Big Cheese Drop” New Year’s Party. Plan on joining us for new art shows in Gallery 110 North\, Mill Street Live Summer Musical Series\, Paint the Towns\, En Plein-outdoor painting competition and silent auction\, Veteran’s Concert and Art Show\, Celtic Christmas\, PAC Singers Christmas Concert\, and much more. The PAC is registered as a 501(c)3 charitable non-profit arts organization. Our mission is: To enliven the spirit of our community and to enrich the lives of all by providing diverse experiences in the arts. The PAC welcomes new members anytime during the year. Current membership is 400+\, with 250 volunteers serving as committee and board members\, visual artists\, docents\, teachers\, directors\, singers\, dancers\, actors\, musicians and general helpers. A full schedule of events can be found on the website. Follow the PAC/Plymouth Arts Center on Facebook and Instagram. Visit us downtown at 520 E. Mill Street\, Plymouth\, WI\, online www.plymoutharts.org\, or call 920.892.8409.
URL:https://foodtruckswi.com/event/18th-annual-cheese-capital-jazz-and-blues-crawl-for-the-arts/
LOCATION:Plymouth Arts Center\, 520 East Mill Street\, Plymouth\, WI\, 53073\, United States
ATTACH;FMTTYPE=image/jpeg:https://foodtruckswi.com/wp-content/uploads/2022/05/2022-Jazz-Crawl-Poster.jpg
ORGANIZER;CN="Plymouth Arts Center":MAILTO:info@plymoutharts.org
END:VEVENT
BEGIN:VEVENT
DTSTART;TZID=UTC:20220729T160000
DTEND;TZID=UTC:20220729T200000
DTSTAMP:20260425T104248
CREATED:20220724T233429Z
LAST-MODIFIED:20220724T233429Z
UID:418-1659110400-1659124800@foodtruckswi.com
SUMMARY:Milton Community Days
DESCRIPTION:Outdoor market with crafters\, non profits\, bakers and more looking to add a few more vendors/ food trucks
URL:https://foodtruckswi.com/event/milton-community-days/
LOCATION:schillberg park milton\, wi\, 301 W High St\, Milton\, WI\, 53563\, United States
ATTACH;FMTTYPE=image/png:https://foodtruckswi.com/wp-content/uploads/2022/07/EA7C382E-4201-45EE-8F6A-C8AF74BD3DFD.png
ORGANIZER;CN="andrea geske":MAILTO:Miltoncommunitydays@gmail.com
END:VEVENT
BEGIN:VEVENT
DTSTART;TZID=UTC:20220709T170000
DTEND;TZID=UTC:20220709T220000
DTSTAMP:20260425T104248
CREATED:20220707T192621Z
LAST-MODIFIED:20220707T192621Z
UID:357-1657386000-1657404000@foodtruckswi.com
SUMMARY:July 4th RE-Celebration
DESCRIPTION:Saturday starting at 5pm\, Vretenar Park\nThe City of St. Francis is planning ANOTHER celebration due to our rain-out on July 4th. We have invited back food vendors\, will have music\, beverage sales at the pavilion and glow items! Please share and spread the word! Fireworks will be at 9:15pm!!\n?????Food Trucks\n?Beverages\n?Music at 6pm – TBD\n???Some of the best fireworks around???
URL:https://foodtruckswi.com/event/july-4th-re-celebration/
LOCATION:Milton Vretenar Municipal Park\, 4224 S. Kirkwood Ave.\, St. Francis\, WI\, 53235\, United States
ATTACH;FMTTYPE=image/png:https://foodtruckswi.com/wp-content/uploads/2022/07/Re-Celebration.png
ORGANIZER;CN="City of St. Francis Celebrations Committee":MAILTO:sfcelebrations@gmail.com
END:VEVENT
BEGIN:VEVENT
DTSTART;TZID=UTC:20220704T140000
DTEND;TZID=UTC:20220704T210000
DTSTAMP:20260425T104248
CREATED:20220514T015529Z
LAST-MODIFIED:20220514T015529Z
UID:284-1656943200-1656968400@foodtruckswi.com
SUMMARY:City of St. Francis July 4th Celebration
DESCRIPTION:The City of St. Francis Celebrations Committee is happy to announce we will be hosting our annual Celebration at Milton Vretenar Park this year! Planning is underway so stay tuned for event updates!\nWe know we will have:\n????‍♀️??‍♂Parade at 2pm\n?????Food Trucks\n?Beverages\n?Music by Cherry Pie at 6pm\n???Some of the best fireworks around???
URL:https://foodtruckswi.com/event/city-of-st-francis-july-4th-celebration/
LOCATION:Milton Vretenar Municipal Park\, 4224 S. Kirkwood Ave.\, St. Francis\, WI\, 53235\, United States
ATTACH;FMTTYPE=image/jpeg:https://foodtruckswi.com/wp-content/uploads/2022/05/July-4-Celebration.jpg
ORGANIZER;CN="City of St. Francis Celebrations Committee":MAILTO:sfcelebrations@gmail.com
END:VEVENT
BEGIN:VEVENT
DTSTART;TZID=UTC:20220618T100000
DTEND;TZID=UTC:20220618T140000
DTSTAMP:20260425T104248
CREATED:20220427T193152Z
LAST-MODIFIED:20220427T193152Z
UID:252-1655546400-1655560800@foodtruckswi.com
SUMMARY:Pistons For Hope
DESCRIPTION:Please join us for our first Pistons for hope car show! We are partnering up With Visit Pleasant Prairie and Rence’s Auto Repair to put on this amazing event.\nWe will have food trucks\, a DJ\, Beer Tent\, Face painter & plenty more attractions for all ages.\nWe will be awarding a plaque and gift certificate to three categories; Best of New\, Best of Old\, & Best of Show. The public will be voting on each category.\nALL CARS WELCOMED\nCar Pre-registration $5\nCar Registration at the event $10\nPlease register at https://pistonsforhope.eventbrite.com\nall proceeds will go to the Shalom Center programs\nFree to come and enjoy the cars and other things we have on site.\nThe Shalom center will be accepting non-perishable items.
URL:https://foodtruckswi.com/event/pistons-for-hope/
LOCATION:St. Anne’s Catholic Church\, 9091 prairie ridge blvd\, Pleasant Prairie\, WI\, 53158
ATTACH;FMTTYPE=image/png:https://foodtruckswi.com/wp-content/uploads/2022/04/Screenshot-2022-04-15-110050.png
END:VEVENT
END:VCALENDAR